BEGIN:VCALENDAR
VERSION:2.0
PRODID:-//Out On Sunday - ECPv6.15.20//NONSGML v1.0//EN
CALSCALE:GREGORIAN
METHOD:PUBLISH
X-ORIGINAL-URL:https://outonsunday.co.uk
X-WR-CALDESC:Events for Out On Sunday
REFRESH-INTERVAL;VALUE=DURATION:PT1H
X-Robots-Tag:noindex
X-PUBLISHED-TTL:PT1H
BEGIN:VTIMEZONE
TZID:UTC
BEGIN:STANDARD
TZOFFSETFROM:+0000
TZOFFSETTO:+0000
TZNAME:UTC
DTSTART:20230101T000000
END:STANDARD
END:VTIMEZONE
BEGIN:VEVENT
DTSTART;VALUE=DATE:20241006
DTEND;VALUE=DATE:20241007
DTSTAMP:20260421T113153
CREATED:20240511T065118Z
LAST-MODIFIED:20241007T125909Z
UID:5996-1728172800-1728259199@outonsunday.co.uk
SUMMARY:Styal Woods and the Bollin Valley
DESCRIPTION:This content is restricted to subscribers
URL:https://outonsunday.co.uk/event/smithills-hall/
CATEGORIES:Walks
ATTACH;FMTTYPE=image/jpeg:https://outonsunday.co.uk/wp-content/uploads/2024/05/2022-10-23-Styal-Woods-CP-1.jpg
END:VEVENT
END:VCALENDAR