BEGIN:VCALENDAR
VERSION:2.0
PRODID:-//Out On Sunday - ECPv6.15.20//NONSGML v1.0//EN
CALSCALE:GREGORIAN
METHOD:PUBLISH
X-WR-CALNAME:Out On Sunday
X-ORIGINAL-URL:https://outonsunday.co.uk
X-WR-CALDESC:Events for Out On Sunday
REFRESH-INTERVAL;VALUE=DURATION:PT1H
X-Robots-Tag:noindex
X-PUBLISHED-TTL:PT1H
BEGIN:VTIMEZONE
TZID:Europe/Paris
BEGIN:DAYLIGHT
TZOFFSETFROM:+0100
TZOFFSETTO:+0200
TZNAME:CEST
DTSTART:20240331T010000
END:DAYLIGHT
BEGIN:STANDARD
TZOFFSETFROM:+0200
TZOFFSETTO:+0100
TZNAME:CET
DTSTART:20241027T010000
END:STANDARD
BEGIN:DAYLIGHT
TZOFFSETFROM:+0100
TZOFFSETTO:+0200
TZNAME:CEST
DTSTART:20250330T010000
END:DAYLIGHT
BEGIN:STANDARD
TZOFFSETFROM:+0200
TZOFFSETTO:+0100
TZNAME:CET
DTSTART:20251026T010000
END:STANDARD
BEGIN:DAYLIGHT
TZOFFSETFROM:+0100
TZOFFSETTO:+0200
TZNAME:CEST
DTSTART:20260329T010000
END:DAYLIGHT
BEGIN:STANDARD
TZOFFSETFROM:+0200
TZOFFSETTO:+0100
TZNAME:CET
DTSTART:20261025T010000
END:STANDARD
BEGIN:DAYLIGHT
TZOFFSETFROM:+0100
TZOFFSETTO:+0200
TZNAME:CEST
DTSTART:20270328T010000
END:DAYLIGHT
BEGIN:STANDARD
TZOFFSETFROM:+0200
TZOFFSETTO:+0100
TZNAME:CET
DTSTART:20271031T010000
END:STANDARD
END:VTIMEZONE
BEGIN:VTIMEZONE
TZID:UTC
BEGIN:STANDARD
TZOFFSETFROM:+0000
TZOFFSETTO:+0000
TZNAME:UTC
DTSTART:20240101T000000
END:STANDARD
END:VTIMEZONE
BEGIN:VEVENT
DTSTART;VALUE=DATE:20250511
DTEND;VALUE=DATE:20250512
DTSTAMP:20260420T092242
CREATED:20250124T085034Z
LAST-MODIFIED:20250507T070816Z
UID:7994-1746921600-1747007999@outonsunday.co.uk
SUMMARY:Healey Dell\, Whitworth
DESCRIPTION:This content is restricted to subscribers
URL:https://outonsunday.co.uk/event/healey-dell-whitworth/
CATEGORIES:Walks
ATTACH;FMTTYPE=image/jpeg:https://outonsunday.co.uk/wp-content/uploads/2025/01/Healey-Dell-web-image.jpg
END:VEVENT
BEGIN:VEVENT
DTSTART;VALUE=DATE:20250518
DTEND;VALUE=DATE:20250519
DTSTAMP:20260420T092242
CREATED:20250124T085414Z
LAST-MODIFIED:20250519T104952Z
UID:7996-1747526400-1747612799@outonsunday.co.uk
SUMMARY:Peckforton Circular
DESCRIPTION:This content is restricted to subscribers
URL:https://outonsunday.co.uk/event/peckforton-castle-cheshire/
CATEGORIES:Walks
ATTACH;FMTTYPE=image/jpeg:https://outonsunday.co.uk/wp-content/uploads/2025/01/25-05-10-Peckforton-CB-01.jpg
END:VEVENT
BEGIN:VEVENT
DTSTART;VALUE=DATE:20250525
DTEND;VALUE=DATE:20250526
DTSTAMP:20260420T092242
CREATED:20250506T150518Z
LAST-MODIFIED:20250529T102235Z
UID:8478-1748131200-1748217599@outonsunday.co.uk
SUMMARY:Worsley Delph to Parr Fold Park
DESCRIPTION:This content is restricted to subscribers
URL:https://outonsunday.co.uk/event/no-walk-programmed-13/
CATEGORIES:Walks
ATTACH;FMTTYPE=image/jpeg:https://outonsunday.co.uk/wp-content/uploads/2025/05/2025-05-14-Worsley-AU-01.jpg
END:VEVENT
BEGIN:VEVENT
DTSTART;VALUE=DATE:20250608
DTEND;VALUE=DATE:20250609
DTSTAMP:20260420T092242
CREATED:20250513T082157Z
LAST-MODIFIED:20250609T062100Z
UID:8522-1749340800-1749427199@outonsunday.co.uk
SUMMARY:Eccleston Chester Circular
DESCRIPTION:This content is restricted to subscribers
URL:https://outonsunday.co.uk/event/eccleston-chester-circular/
CATEGORIES:Walks
ATTACH;FMTTYPE=image/jpeg:https://outonsunday.co.uk/wp-content/uploads/2023/12/2018-06-10-Chester-1428-e1714471954936.jpg
END:VEVENT
BEGIN:VEVENT
DTSTART;VALUE=DATE:20250622
DTEND;VALUE=DATE:20250623
DTSTAMP:20260420T092242
CREATED:20250615T122209Z
LAST-MODIFIED:20250623T115200Z
UID:8647-1750550400-1750636799@outonsunday.co.uk
SUMMARY:Philips Park
DESCRIPTION:This content is restricted to subscribers
URL:https://outonsunday.co.uk/event/philips-park-22-june/
CATEGORIES:Walks
ATTACH;FMTTYPE=image/jpeg:https://outonsunday.co.uk/wp-content/uploads/2025/06/2023_04_23_Prestwich_Clough_DH02-1-e1749990639111.jpg
END:VEVENT
BEGIN:VEVENT
DTSTART;VALUE=DATE:20250629
DTEND;VALUE=DATE:20250630
DTSTAMP:20260420T092242
CREATED:20250129T080541Z
LAST-MODIFIED:20250623T120712Z
UID:8040-1751155200-1751241599@outonsunday.co.uk
SUMMARY:Miller's Dale
DESCRIPTION:This content is restricted to subscribers
URL:https://outonsunday.co.uk/event/millers-dale/
CATEGORIES:Walks
ATTACH;FMTTYPE=image/webp:https://outonsunday.co.uk/wp-content/uploads/2025/01/Tideswell-web-image.webp
END:VEVENT
BEGIN:VEVENT
DTSTART;VALUE=DATE:20250706
DTEND;VALUE=DATE:20250707
DTSTAMP:20260420T092242
CREATED:20250129T075846Z
LAST-MODIFIED:20250707T122345Z
UID:8038-1751760000-1751846399@outonsunday.co.uk
SUMMARY:Ramsbottom Circular
DESCRIPTION:This content is restricted to subscribers
URL:https://outonsunday.co.uk/event/ramsbottom-circular-2/
CATEGORIES:Walks
ATTACH;FMTTYPE=image/jpeg:https://outonsunday.co.uk/wp-content/uploads/2025/01/Ramsbottom-web-image.jpg
END:VEVENT
BEGIN:VEVENT
DTSTART;VALUE=DATE:20250713
DTEND;VALUE=DATE:20250714
DTSTAMP:20260420T092242
CREATED:20250630T134109Z
LAST-MODIFIED:20250714T120847Z
UID:8665-1752364800-1752451199@outonsunday.co.uk
SUMMARY:Castleton and Mam Tor - Cancelled
DESCRIPTION:This content is restricted to subscribers
URL:https://outonsunday.co.uk/event/castleton-and-mam-tor-2/
CATEGORIES:Walks
ATTACH;FMTTYPE=image/jpeg:https://outonsunday.co.uk/wp-content/uploads/2024/05/Castlton-and-Mam-Tor.jpg
END:VEVENT
BEGIN:VEVENT
DTSTART;VALUE=DATE:20250720
DTEND;VALUE=DATE:20250721
DTSTAMP:20260420T092242
CREATED:20250129T081709Z
LAST-MODIFIED:20250723T071715Z
UID:8042-1752969600-1753055999@outonsunday.co.uk
SUMMARY:York Village and Dean Clough nr. Whalley
DESCRIPTION:This content is restricted to subscribers
URL:https://outonsunday.co.uk/event/york-village-nr-whalley/
CATEGORIES:Walks
ATTACH;FMTTYPE=image/jpeg:https://outonsunday.co.uk/wp-content/uploads/2025/01/Dean-Clough-web-image.jpg
END:VEVENT
BEGIN:VEVENT
DTSTART;VALUE=DATE:20250727
DTEND;VALUE=DATE:20250728
DTSTAMP:20260420T092242
CREATED:20250721T122155Z
LAST-MODIFIED:20250728T154031Z
UID:8044-1753574400-1753660799@outonsunday.co.uk
SUMMARY:Shutlingsloe  (moderate\, 7 miles)
DESCRIPTION:This content is restricted to subscribers
URL:https://outonsunday.co.uk/event/shutlingsloe/
CATEGORIES:Walks
ATTACH;FMTTYPE=image/jpeg:https://outonsunday.co.uk/wp-content/uploads/2025/01/2018-09-02-Shutlingsloe-CB-1504-e1753104193180.jpg
END:VEVENT
BEGIN:VEVENT
DTSTART;VALUE=DATE:20250803
DTEND;VALUE=DATE:20250804
DTSTAMP:20260420T092242
CREATED:20250129T082714Z
LAST-MODIFIED:20250804T093748Z
UID:8048-1754179200-1754265599@outonsunday.co.uk
SUMMARY:Little Moreton Hall / Astbury Circular (easy\, 6.5 miles)
DESCRIPTION:This content is restricted to subscribers
URL:https://outonsunday.co.uk/event/little-morton-hall/
CATEGORIES:Walks
ATTACH;FMTTYPE=image/jpeg:https://outonsunday.co.uk/wp-content/uploads/2025/01/Little-Morton-Hall-web-image.jpg
END:VEVENT
BEGIN:VEVENT
DTSTART;VALUE=DATE:20250817
DTEND;VALUE=DATE:20250818
DTSTAMP:20260420T092242
CREATED:20250129T083358Z
LAST-MODIFIED:20250818T155839Z
UID:8052-1755388800-1755475199@outonsunday.co.uk
SUMMARY:Tottington\, Bottoms hall and Hawkshaw (easy\, 5.5 miles)
DESCRIPTION:This content is restricted to subscribers
URL:https://outonsunday.co.uk/event/tottington-and-hawkshaw/
CATEGORIES:Walks
ATTACH;FMTTYPE=image/webp:https://outonsunday.co.uk/wp-content/uploads/2025/01/Hawkshaw-web-image.webp
END:VEVENT
BEGIN:VEVENT
DTSTART;VALUE=DATE:20250831
DTEND;VALUE=DATE:20250901
DTSTAMP:20260420T092242
CREATED:20250825T125052Z
LAST-MODIFIED:20250901T102836Z
UID:9237-1756598400-1756684799@outonsunday.co.uk
SUMMARY:Watergrove circular  (moderate\, 6 miles)
DESCRIPTION:This content is restricted to subscribers
URL:https://outonsunday.co.uk/event/watergrove-circular-moderate-6-miles/
CATEGORIES:Walks
ATTACH;FMTTYPE=image/jpeg:https://outonsunday.co.uk/wp-content/uploads/2025/08/Watergrove-web.jpg
END:VEVENT
BEGIN:VEVENT
DTSTART;VALUE=DATE:20250907
DTEND;VALUE=DATE:20250908
DTSTAMP:20260420T092242
CREATED:20250723T072225Z
LAST-MODIFIED:20250908T124530Z
UID:8800-1757203200-1757289599@outonsunday.co.uk
SUMMARY:Castleton and Mam Tor (7 miles -challenging)
DESCRIPTION:This content is restricted to subscribers
URL:https://outonsunday.co.uk/event/castleton-and-mam-tor-3/
CATEGORIES:Walks
ATTACH;FMTTYPE=image/jpeg:https://outonsunday.co.uk/wp-content/uploads/2024/05/Castlton-and-Mam-Tor.jpg
END:VEVENT
BEGIN:VEVENT
DTSTART;VALUE=DATE:20250914
DTEND;VALUE=DATE:20250915
DTSTAMP:20260420T092242
CREATED:20250129T082852Z
LAST-MODIFIED:20250915T141434Z
UID:8050-1757808000-1757894399@outonsunday.co.uk
SUMMARY:Fleetwood to Bispham (8 miles - easy)
DESCRIPTION:This content is restricted to subscribers
URL:https://outonsunday.co.uk/event/fleetwood-to-bispham/
CATEGORIES:Walks
ATTACH;FMTTYPE=image/webp:https://outonsunday.co.uk/wp-content/uploads/2025/01/Cleveleys-web-image.webp
END:VEVENT
BEGIN:VEVENT
DTSTART;VALUE=DATE:20250919
DTEND;VALUE=DATE:20250922
DTSTAMP:20260420T092242
CREATED:20250129T085751Z
LAST-MODIFIED:20250901T110206Z
UID:8064-1758240000-1758499199@outonsunday.co.uk
SUMMARY:Weekend away: Scarborough\, North Yorkshire
DESCRIPTION:This content is restricted to subscribers
URL:https://outonsunday.co.uk/event/weekend-away-scarborough-north-yorkshire/
CATEGORIES:Walks
ATTACH;FMTTYPE=image/jpeg:https://outonsunday.co.uk/wp-content/uploads/2025/09/Scarbourgh.jpg
END:VEVENT
BEGIN:VEVENT
DTSTART;VALUE=DATE:20251005
DTEND;VALUE=DATE:20251006
DTSTAMP:20260420T092242
CREATED:20250905T100306Z
LAST-MODIFIED:20251005T173951Z
UID:9289-1759622400-1759708799@outonsunday.co.uk
SUMMARY:Longford Park to Altrincham (6 miles\, easy)
DESCRIPTION:This content is restricted to subscribers
URL:https://outonsunday.co.uk/event/longford-park-to-altrincham-5-5-miles-easy/
CATEGORIES:Walks
ATTACH;FMTTYPE=image/jpeg:https://outonsunday.co.uk/wp-content/uploads/2024/12/Longford-Park.jpeg
END:VEVENT
BEGIN:VEVENT
DTSTART;VALUE=DATE:20251012
DTEND;VALUE=DATE:20251013
DTSTAMP:20260420T092242
CREATED:20251004T100425Z
LAST-MODIFIED:20251012T193003Z
UID:9292-1760227200-1760313599@outonsunday.co.uk
SUMMARY:Dovestone Reservoir (6 miles\, moderate)
DESCRIPTION:This content is restricted to subscribers
URL:https://outonsunday.co.uk/event/no-walk-programmed-17/
CATEGORIES:Walks
ATTACH;FMTTYPE=image/webp:https://outonsunday.co.uk/wp-content/uploads/2025/09/Dovestones-web-image.webp
END:VEVENT
BEGIN:VEVENT
DTSTART;VALUE=DATE:20251019
DTEND;VALUE=DATE:20251020
DTSTAMP:20260420T092242
CREATED:20251012T201621Z
LAST-MODIFIED:20251021T111955Z
UID:9406-1760832000-1760918399@outonsunday.co.uk
SUMMARY:Alderley Edge Wizard walk (7.5 miles\, moderate)
DESCRIPTION:This content is restricted to subscribers
URL:https://outonsunday.co.uk/event/alderley-edge-wizard-walk-7-5-miles-moderate/
CATEGORIES:Walks
ATTACH;FMTTYPE=image/webp:https://outonsunday.co.uk/wp-content/uploads/2025/02/Alderley-Edge-web-image.webp
END:VEVENT
BEGIN:VEVENT
DTSTART;VALUE=DATE:20251026
DTEND;VALUE=DATE:20251027
DTSTAMP:20260420T092242
CREATED:20250917T134047Z
LAST-MODIFIED:20251026T145211Z
UID:9377-1761436800-1761523199@outonsunday.co.uk
SUMMARY:Marple Circular
DESCRIPTION:This content is restricted to subscribers
URL:https://outonsunday.co.uk/event/marple-circular/
CATEGORIES:Walks
ATTACH;FMTTYPE=image/webp:https://outonsunday.co.uk/wp-content/uploads/2025/09/Marple-Bridge-web-image.webp
END:VEVENT
BEGIN:VEVENT
DTSTART;VALUE=DATE:20251102
DTEND;VALUE=DATE:20251103
DTSTAMP:20260420T092242
CREATED:20251024T155935Z
LAST-MODIFIED:20251109T091849Z
UID:9473-1762041600-1762127999@outonsunday.co.uk
SUMMARY:Middlewood Way circular (moderate\, 6 miles)
DESCRIPTION:This content is restricted to subscribers
URL:https://outonsunday.co.uk/event/middlewood-way-circular-moderate-6-miles/
CATEGORIES:Walks
ATTACH;FMTTYPE=image/jpeg:https://outonsunday.co.uk/wp-content/uploads/2024/12/2025-01-23-Middlewood-way-CP-01.jpg
END:VEVENT
BEGIN:VEVENT
DTSTART;VALUE=DATE:20251116
DTEND;VALUE=DATE:20251117
DTSTAMP:20260420T092242
CREATED:20250202T094206Z
LAST-MODIFIED:20251117T154413Z
UID:8085-1763251200-1763337599@outonsunday.co.uk
SUMMARY:A circuit from Barley in the shadow of Pendle Hill (moderate\, 5 miles)
DESCRIPTION:This content is restricted to subscribers
URL:https://outonsunday.co.uk/event/pendle-hill/
CATEGORIES:Walks
ATTACH;FMTTYPE=image/jpeg:https://outonsunday.co.uk/wp-content/uploads/2025/02/2025-11-16-Pendle-Hill-DH-01.jpg
END:VEVENT
BEGIN:VEVENT
DTSTART;VALUE=DATE:20251130
DTEND;VALUE=DATE:20251201
DTSTAMP:20260420T092242
CREATED:20250202T095035Z
LAST-MODIFIED:20251201T132401Z
UID:8093-1764460800-1764547199@outonsunday.co.uk
SUMMARY:RHS Bridgewater to Astley Green (easy\, 5.5 mile)
DESCRIPTION:This content is restricted to subscribers
URL:https://outonsunday.co.uk/event/rhs-bridgewater-to-astley-green/
CATEGORIES:Walks
ATTACH;FMTTYPE=image/jpeg:https://outonsunday.co.uk/wp-content/uploads/2025/02/2024-11-24-RHS-to-Astley-Bridge-CP-10.jpg
END:VEVENT
BEGIN:VEVENT
DTSTART;VALUE=DATE:20251214
DTEND;VALUE=DATE:20251215
DTSTAMP:20260420T092242
CREATED:20250202T095836Z
LAST-MODIFIED:20251217T135850Z
UID:8101-1765670400-1765756799@outonsunday.co.uk
SUMMARY:Tatton Park (easy\, 6 miles)
DESCRIPTION:This content is restricted to subscribers
URL:https://outonsunday.co.uk/event/tatton-park-2/
CATEGORIES:Walks
ATTACH;FMTTYPE=image/jpeg:https://outonsunday.co.uk/wp-content/uploads/2025/11/2022_12_11_Tatton_TW_18-300x200-01.jpg
END:VEVENT
BEGIN:VEVENT
DTSTART;VALUE=DATE:20251228
DTEND;VALUE=DATE:20251229
DTSTAMP:20260420T092242
CREATED:20251112T140431Z
LAST-MODIFIED:20260104T100944Z
UID:9599-1766880000-1766966399@outonsunday.co.uk
SUMMARY:Styal Woods and the Bollin Valley (moderate\, 5 miles)
DESCRIPTION:This content is restricted to subscribers
URL:https://outonsunday.co.uk/event/styal-woods-and-the-bollin-valley-moderate-0-0-miles/
CATEGORIES:Walks
ATTACH;FMTTYPE=image/jpeg:https://outonsunday.co.uk/wp-content/uploads/2025/09/2021-11-28-Styal-Village-CP-01.jpg
END:VEVENT
BEGIN:VEVENT
DTSTART;VALUE=DATE:20260125
DTEND;VALUE=DATE:20260126
DTSTAMP:20260420T092242
CREATED:20251230T142756Z
LAST-MODIFIED:20260114T152154Z
UID:9710-1769299200-1769385599@outonsunday.co.uk
SUMMARY:Moses Gate (moderate\, 7 miles)
DESCRIPTION:This content is restricted to subscribers
URL:https://outonsunday.co.uk/event/moses-gate/
CATEGORIES:Walks
ATTACH;FMTTYPE=image/jpeg:https://outonsunday.co.uk/wp-content/uploads/2024/12/2024-12-21-Moses-Gate-DR-01.jpg
END:VEVENT
BEGIN:VEVENT
DTSTART;VALUE=DATE:20260215
DTEND;VALUE=DATE:20260216
DTSTAMP:20260420T092242
CREATED:20260122T093324Z
LAST-MODIFIED:20260205T120614Z
UID:9749-1771113600-1771199999@outonsunday.co.uk
SUMMARY:Hardcastle Crags and Crimsworth Dean (challenging\, 5 miles)
DESCRIPTION:This content is restricted to subscribers
URL:https://outonsunday.co.uk/event/hardcastle-crags/
CATEGORIES:Walks
ATTACH;FMTTYPE=image/jpeg:https://outonsunday.co.uk/wp-content/uploads/2026/01/2026-02-01-Hardcastle-Crags-DH-01.jpeg
END:VEVENT
BEGIN:VEVENT
DTSTART;VALUE=DATE:20260308
DTEND;VALUE=DATE:20260309
DTSTAMP:20260420T092242
CREATED:20260122T093545Z
LAST-MODIFIED:20260311T134521Z
UID:9752-1772928000-1773014399@outonsunday.co.uk
SUMMARY:Smithills Country Park (moderate\, 6.8 miles)
DESCRIPTION:This content is restricted to subscribers
URL:https://outonsunday.co.uk/event/t-b-a/
CATEGORIES:Walks
ATTACH;FMTTYPE=image/webp:https://outonsunday.co.uk/wp-content/uploads/2026/01/Smithills-web-image.webp
END:VEVENT
BEGIN:VEVENT
DTSTART;VALUE=DATE:20260315
DTEND;VALUE=DATE:20260316
DTSTAMP:20260420T092242
CREATED:20260214T101053Z
LAST-MODIFIED:20260316T132722Z
UID:9960-1773532800-1773619199@outonsunday.co.uk
SUMMARY:Chorlton Water Park (easy\, 6.5 miles)
DESCRIPTION:This content is restricted to subscribers
URL:https://outonsunday.co.uk/event/chorlton-water-park/
CATEGORIES:Walks
ATTACH;FMTTYPE=image/jpeg:https://outonsunday.co.uk/wp-content/uploads/2025/01/2024-12-17-Chorlton-CP-01.jpg
END:VEVENT
BEGIN:VEVENT
DTSTART;VALUE=DATE:20260322
DTEND;VALUE=DATE:20260323
DTSTAMP:20260420T092242
CREATED:20260122T094204Z
LAST-MODIFIED:20260326T141628Z
UID:9754-1774137600-1774223999@outonsunday.co.uk
SUMMARY:Rudyard Lake (Easy\, 5 miles)
DESCRIPTION:This content is restricted to subscribers
URL:https://outonsunday.co.uk/event/rudyard-lake/
CATEGORIES:Walks
ATTACH;FMTTYPE=image/webp:https://outonsunday.co.uk/wp-content/uploads/2026/01/Rudyard-Lake-web-image.webp
END:VEVENT
END:VCALENDAR